BEGIN:VCALENDAR
VERSION:2.0
PRODID:-//Village of New Hyde Park, NY - ECPv6.1.1//NONSGML v1.0//EN
CALSCALE:GREGORIAN
METHOD:PUBLISH
X-ORIGINAL-URL:https://villagenhpny.gov
X-WR-CALDESC:Events for Village of New Hyde Park, NY
REFRESH-INTERVAL;VALUE=DURATION:PT1H
X-Robots-Tag:noindex
X-PUBLISHED-TTL:PT1H
BEGIN:VTIMEZONE
TZID:America/New_York
BEGIN:DAYLIGHT
TZOFFSETFROM:-0500
TZOFFSETTO:-0400
TZNAME:EDT
DTSTART:20240310T070000
END:DAYLIGHT
BEGIN:STANDARD
TZOFFSETFROM:-0400
TZOFFSETTO:-0500
TZNAME:EST
DTSTART:20241103T060000
END:STANDARD
END:VTIMEZONE
BEGIN:VEVENT
DTSTART;TZID=America/New_York:20241121T190000
DTEND;TZID=America/New_York:20241121T210000
DTSTAMP:20260419T193743
CREATED:20240410T182943Z
LAST-MODIFIED:20240410T182943Z
UID:10000612-1732215600-1732222800@villagenhpny.gov
SUMMARY:Monthly Board Meeting
DESCRIPTION:VNHP Public Meeting \nJoin Zoom Meeting\nhttps://us06web.zoom.us/j/2241716534?pwd=Rnl0L1Z6R0FRcDNHZlA0QlJvcWswdz09 \nCall In: (646)931-3860\nMeeting ID: 224 171 6534\nPasscode: 3BkpDr
URL:https://villagenhpny.gov/event/monthly-board-meeting-17/
END:VEVENT
BEGIN:VEVENT
DTSTART;TZID=America/New_York:20241219T190000
DTEND;TZID=America/New_York:20241219T210000
DTSTAMP:20260419T193743
CREATED:20240410T174234Z
LAST-MODIFIED:20240410T174400Z
UID:10000607-1734634800-1734642000@villagenhpny.gov
SUMMARY:Monthly Board Meeting
DESCRIPTION:VNHP Public Meeting \nJoin Zoom Meeting\nhttps://us06web.zoom.us/j/2241716534?pwd=Rnl0L1Z6R0FRcDNHZlA0QlJvcWswdz09 \nCall In: (646)931-3860\nMeeting ID: 224 171 6534\nPasscode: 3BkpDr
URL:https://villagenhpny.gov/event/monthly-board-meeting-12/
END:VEVENT
END:VCALENDAR