BEGIN:VCALENDAR
VERSION:2.0
PRODID:-//Village of New Hyde Park, NY - ECPv6.1.1//NONSGML v1.0//EN
CALSCALE:GREGORIAN
METHOD:PUBLISH
X-ORIGINAL-URL:https://villagenhpny.gov
X-WR-CALDESC:Events for Village of New Hyde Park, NY
REFRESH-INTERVAL;VALUE=DURATION:PT1H
X-Robots-Tag:noindex
X-PUBLISHED-TTL:PT1H
BEGIN:VTIMEZONE
TZID:America/New_York
BEGIN:DAYLIGHT
TZOFFSETFROM:-0500
TZOFFSETTO:-0400
TZNAME:EDT
DTSTART:20240310T070000
END:DAYLIGHT
BEGIN:STANDARD
TZOFFSETFROM:-0400
TZOFFSETTO:-0500
TZNAME:EST
DTSTART:20241103T060000
END:STANDARD
END:VTIMEZONE
BEGIN:VEVENT
DTSTART;TZID=America/New_York:20240516T190000
DTEND;TZID=America/New_York:20240516T210000
DTSTAMP:20260419T210043
CREATED:20240401T172952Z
LAST-MODIFIED:20240401T172952Z
UID:10000598-1715886000-1715893200@villagenhpny.gov
SUMMARY:Monthly Board Meeting
DESCRIPTION:VNHP Public Meeting \nJoin Zoom Meeting\nhttps://us06web.zoom.us/j/2241716534?pwd=Rnl0L1Z6R0FRcDNHZlA0QlJvcWswdz09 \nCall In: (646)931-3860\nMeeting ID: 224 171 6534\nPasscode: 3BkpDr
URL:https://villagenhpny.gov/event/monthly-board-meeting-9/
END:VEVENT
BEGIN:VEVENT
DTSTART;TZID=America/New_York:20240525T100000
DTEND;TZID=America/New_York:20240525T120000
DTSTAMP:20260419T210043
CREATED:20240410T172018Z
LAST-MODIFIED:20240410T172018Z
UID:10000604-1716631200-1716638400@villagenhpny.gov
SUMMARY:Memorial Day Parade
DESCRIPTION:
URL:https://villagenhpny.gov/event/memorial-day-parade-2/
END:VEVENT
BEGIN:VEVENT
DTSTART;TZID=America/New_York:20240621T183000
DTEND;TZID=America/New_York:20240621T210000
DTSTAMP:20260419T210043
CREATED:20240401T173144Z
LAST-MODIFIED:20240610T193812Z
UID:10000599-1718994600-1719003600@villagenhpny.gov
SUMMARY:Monthly Board Meeting
DESCRIPTION:VNHP Public Meeting \nJoin Zoom Meeting\nhttps://us06web.zoom.us/j/2241716534?pwd=Rnl0L1Z6R0FRcDNHZlA0QlJvcWswdz09 \nCall In: (646)931-3860\nMeeting ID: 224 171 6534\nPasscode: 3BkpDr
URL:https://villagenhpny.gov/event/monthly-board-meeting-10/
END:VEVENT
BEGIN:VEVENT
DTSTART;TZID=America/New_York:20240717T080000
DTEND;TZID=America/New_York:20240717T170000
DTSTAMP:20260419T210043
CREATED:20240717T204732Z
LAST-MODIFIED:20240717T204732Z
UID:10000614-1721203200-1721235600@villagenhpny.gov
SUMMARY:
DESCRIPTION:07-18-2024_AGENDA
URL:https://villagenhpny.gov/event/12099/
END:VEVENT
BEGIN:VEVENT
DTSTART;TZID=America/New_York:20240718T190000
DTEND;TZID=America/New_York:20240718T210000
DTSTAMP:20260419T210043
CREATED:20240410T174031Z
LAST-MODIFIED:20240410T174552Z
UID:10000606-1721329200-1721336400@villagenhpny.gov
SUMMARY:Monthly Board Meeting
DESCRIPTION:VNHP Public Meeting \nJoin Zoom Meeting\nhttps://us06web.zoom.us/j/2241716534?pwd=Rnl0L1Z6R0FRcDNHZlA0QlJvcWswdz09 \nCall In: (646)931-3860\nMeeting ID: 224 171 6534\nPasscode: 3BkpDr
URL:https://villagenhpny.gov/event/monthly-board-meeting-11/
END:VEVENT
BEGIN:VEVENT
DTSTART;TZID=America/New_York:20240815T190000
DTEND;TZID=America/New_York:20240815T210000
DTSTAMP:20260419T210043
CREATED:20240410T175717Z
LAST-MODIFIED:20240410T175717Z
UID:10000610-1723748400-1723755600@villagenhpny.gov
SUMMARY:Monthly Board Meeting
DESCRIPTION:VNHP Public Meeting \nJoin Zoom Meeting\nhttps://us06web.zoom.us/j/2241716534?pwd=Rnl0L1Z6R0FRcDNHZlA0QlJvcWswdz09 \nCall In: (646)931-3860\nMeeting ID: 224 171 6534\nPasscode: 3BkpDr
URL:https://villagenhpny.gov/event/monthly-board-meeting-15/
END:VEVENT
BEGIN:VEVENT
DTSTART;TZID=America/New_York:20240919T190000
DTEND;TZID=America/New_York:20240919T210000
DTSTAMP:20260419T210043
CREATED:20240410T174950Z
LAST-MODIFIED:20240410T175105Z
UID:10000608-1726772400-1726779600@villagenhpny.gov
SUMMARY:Monthly Board Meeting
DESCRIPTION:VNHP Public Meeting \nJoin Zoom Meeting\nhttps://us06web.zoom.us/j/2241716534?pwd=Rnl0L1Z6R0FRcDNHZlA0QlJvcWswdz09 \nCall In: (646)931-3860\nMeeting ID: 224 171 6534\nPasscode: 3BkpDr
URL:https://villagenhpny.gov/event/monthly-board-meeting-13/
END:VEVENT
BEGIN:VEVENT
DTSTART;TZID=America/New_York:20240919T190000
DTEND;TZID=America/New_York:20240919T210000
DTSTAMP:20260419T210043
CREATED:20240410T175238Z
LAST-MODIFIED:20240410T175238Z
UID:10000609-1726772400-1726779600@villagenhpny.gov
SUMMARY:Monthly Board Meeting
DESCRIPTION:VNHP Public Meeting \nJoin Zoom Meeting\nhttps://us06web.zoom.us/j/2241716534?pwd=Rnl0L1Z6R0FRcDNHZlA0QlJvcWswdz09 \nCall In: (646)931-3860\nMeeting ID: 224 171 6534\nPasscode: 3BkpDr
URL:https://villagenhpny.gov/event/monthly-board-meeting-14/
END:VEVENT
BEGIN:VEVENT
DTSTART;TZID=America/New_York:20241017T190000
DTEND;TZID=America/New_York:20241017T210000
DTSTAMP:20260419T210043
CREATED:20240410T175839Z
LAST-MODIFIED:20240410T175839Z
UID:10000611-1729191600-1729198800@villagenhpny.gov
SUMMARY:Monthly Board Meeting
DESCRIPTION:VNHP Public Meeting \nJoin Zoom Meeting\nhttps://us06web.zoom.us/j/2241716534?pwd=Rnl0L1Z6R0FRcDNHZlA0QlJvcWswdz09 \nCall In: (646)931-3860\nMeeting ID: 224 171 6534\nPasscode: 3BkpDr
URL:https://villagenhpny.gov/event/monthly-board-meeting-16/
END:VEVENT
BEGIN:VEVENT
DTSTART;TZID=America/New_York:20241121T190000
DTEND;TZID=America/New_York:20241121T210000
DTSTAMP:20260419T210043
CREATED:20240410T182943Z
LAST-MODIFIED:20240410T182943Z
UID:10000612-1732215600-1732222800@villagenhpny.gov
SUMMARY:Monthly Board Meeting
DESCRIPTION:VNHP Public Meeting \nJoin Zoom Meeting\nhttps://us06web.zoom.us/j/2241716534?pwd=Rnl0L1Z6R0FRcDNHZlA0QlJvcWswdz09 \nCall In: (646)931-3860\nMeeting ID: 224 171 6534\nPasscode: 3BkpDr
URL:https://villagenhpny.gov/event/monthly-board-meeting-17/
END:VEVENT
BEGIN:VEVENT
DTSTART;TZID=America/New_York:20241219T190000
DTEND;TZID=America/New_York:20241219T210000
DTSTAMP:20260419T210043
CREATED:20240410T174234Z
LAST-MODIFIED:20240410T174400Z
UID:10000607-1734634800-1734642000@villagenhpny.gov
SUMMARY:Monthly Board Meeting
DESCRIPTION:VNHP Public Meeting \nJoin Zoom Meeting\nhttps://us06web.zoom.us/j/2241716534?pwd=Rnl0L1Z6R0FRcDNHZlA0QlJvcWswdz09 \nCall In: (646)931-3860\nMeeting ID: 224 171 6534\nPasscode: 3BkpDr
URL:https://villagenhpny.gov/event/monthly-board-meeting-12/
END:VEVENT
END:VCALENDAR