BEGIN:VCALENDAR
VERSION:2.0
PRODID:-//Village of New Hyde Park, NY - ECPv6.1.1//NONSGML v1.0//EN
CALSCALE:GREGORIAN
METHOD:PUBLISH
X-WR-CALNAME:Village of New Hyde Park, NY
X-ORIGINAL-URL:https://villagenhpny.gov
X-WR-CALDESC:Events for Village of New Hyde Park, NY
REFRESH-INTERVAL;VALUE=DURATION:PT1H
X-Robots-Tag:noindex
X-PUBLISHED-TTL:PT1H
BEGIN:VTIMEZONE
TZID:America/New_York
BEGIN:DAYLIGHT
TZOFFSETFROM:-0500
TZOFFSETTO:-0400
TZNAME:EDT
DTSTART:20230312T070000
END:DAYLIGHT
BEGIN:STANDARD
TZOFFSETFROM:-0400
TZOFFSETTO:-0500
TZNAME:EST
DTSTART:20231105T060000
END:STANDARD
END:VTIMEZONE
BEGIN:VEVENT
DTSTART;TZID=America/New_York:20230415T110000
DTEND;TZID=America/New_York:20230415T120000
DTSTAMP:20260419T102832
CREATED:20230327T160550Z
LAST-MODIFIED:20230327T160922Z
UID:10000344-1681556400-1681560000@villagenhpny.gov
SUMMARY:Village Earth Day Celebration
DESCRIPTION:In celebration of Earth Day we will be planting flowers and cleaning up the area. \n  \n 
URL:https://villagenhpny.gov/event/village-earth-day-celebration/
LOCATION:Nuzzi Field\, Stewart Ave.\, New Hyde Park\, NY
END:VEVENT
END:VCALENDAR